BEGIN:VCALENDAR
VERSION:2.0
PRODID:-//CIGAMX - ECPv6.15.20//NONSGML v1.0//EN
CALSCALE:GREGORIAN
METHOD:PUBLISH
X-WR-CALNAME:CIGAMX
X-ORIGINAL-URL:https://cigamx.org
X-WR-CALDESC:Eventos para CIGAMX
REFRESH-INTERVAL;VALUE=DURATION:PT1H
X-Robots-Tag:noindex
X-PUBLISHED-TTL:PT1H
BEGIN:VTIMEZONE
TZID:America/Tijuana
BEGIN:DAYLIGHT
TZOFFSETFROM:-0800
TZOFFSETTO:-0700
TZNAME:PDT
DTSTART:20250309T100000
END:DAYLIGHT
BEGIN:STANDARD
TZOFFSETFROM:-0700
TZOFFSETTO:-0800
TZNAME:PST
DTSTART:20251102T090000
END:STANDARD
BEGIN:DAYLIGHT
TZOFFSETFROM:-0800
TZOFFSETTO:-0700
TZNAME:PDT
DTSTART:20260308T100000
END:DAYLIGHT
BEGIN:STANDARD
TZOFFSETFROM:-0700
TZOFFSETTO:-0800
TZNAME:PST
DTSTART:20261101T090000
END:STANDARD
BEGIN:DAYLIGHT
TZOFFSETFROM:-0800
TZOFFSETTO:-0700
TZNAME:PDT
DTSTART:20270314T100000
END:DAYLIGHT
BEGIN:STANDARD
TZOFFSETFROM:-0700
TZOFFSETTO:-0800
TZNAME:PST
DTSTART:20271107T090000
END:STANDARD
END:VTIMEZONE
BEGIN:VEVENT
DTSTART;TZID=America/Tijuana:20260422T180000
DTEND;TZID=America/Tijuana:20260422T190000
DTSTAMP:20260421T131029
CREATED:20260417T015623Z
LAST-MODIFIED:20260417T015813Z
UID:18553-1776880800-1776884400@cigamx.org
SUMMARY:Desafíos de la contaminación plástica
DESCRIPTION:Seminario Permanente para el Desarrollo Sustentable \nEl Centro de Innovación y Gestión Ambiental México A.C. (CIGAMX)\, en colaboración con la CONCANACO SERVYTUR y el Programa LEAD México te invitan a participar en una nueva edición del Seminario Permanente para el Desarrollo Sustentable\, un espacio de diálogo y aprendizaje sobre los retos socioambientales que enfrenta nuestro país. \nEn esta sesión\, la Dra. Alethia Vázquez Morillas\, Profesora-Investigadora en el Departamento de Energía de la UAM Azcapotzalco\, compartirá su experiencia en torno al tema: \n“Desafíos de la contaminación plástica” \n Fecha: Miércoles\, 22 de abril de 2026\n Hora: 18:00 h (Pacífico) | 19:00 h (Centro)\n Modalidad: En línea\, vía Zoom\n Duración: 1 hora \n ¡Regístrate con anticipación!\nRecibirás el enlace de acceso a tu correo electrónico. (No olvides revisar tu bandeja de spam y agregarnos a tus contactos). \n Constancia de participación:\nAsegúrate de que tu nombre y apellidos estén correctamente escritos en Zoom. La constancia será enviada por correo electrónico posterior a la sesión. \n\n\n  \n\n\n\nRegístrate
URL:https://cigamx.org/event/desafios-de-la-contaminacion-plastica/
LOCATION:Centro de Innovación y Gestión Ambiental A.C.\, Tijuana\, Baja California\, 22010\, Mexico
CATEGORIES:Seminario Permanente
ATTACH;FMTTYPE=image/png:https://cigamx.org/wp-content/uploads/2026/04/2-7-scaled.png
END:VEVENT
END:VCALENDAR